BEGIN:VCALENDAR
VERSION:2.0
PRODID:-//Crous Poitiers - ECPv6.15.20//NONSGML v1.0//EN
CALSCALE:GREGORIAN
METHOD:PUBLISH
X-WR-CALNAME:Crous Poitiers
X-ORIGINAL-URL:https://www.crous-poitiers.fr
X-WR-CALDESC:Évènements pour Crous Poitiers
REFRESH-INTERVAL;VALUE=DURATION:PT1H
X-Robots-Tag:noindex
X-PUBLISHED-TTL:PT1H
BEGIN:VTIMEZONE
TZID:Europe/Paris
BEGIN:DAYLIGHT
TZOFFSETFROM:+0100
TZOFFSETTO:+0200
TZNAME:CEST
DTSTART:20240331T010000
END:DAYLIGHT
BEGIN:STANDARD
TZOFFSETFROM:+0200
TZOFFSETTO:+0100
TZNAME:CET
DTSTART:20241027T010000
END:STANDARD
BEGIN:DAYLIGHT
TZOFFSETFROM:+0100
TZOFFSETTO:+0200
TZNAME:CEST
DTSTART:20250330T010000
END:DAYLIGHT
BEGIN:STANDARD
TZOFFSETFROM:+0200
TZOFFSETTO:+0100
TZNAME:CET
DTSTART:20251026T010000
END:STANDARD
BEGIN:DAYLIGHT
TZOFFSETFROM:+0100
TZOFFSETTO:+0200
TZNAME:CEST
DTSTART:20260329T010000
END:DAYLIGHT
BEGIN:STANDARD
TZOFFSETFROM:+0200
TZOFFSETTO:+0100
TZNAME:CET
DTSTART:20261025T010000
END:STANDARD
END:VTIMEZONE
BEGIN:VEVENT
DTSTART;TZID=Europe/Paris:20250918T180000
DTEND;TZID=Europe/Paris:20250918T210000
DTSTAMP:20260423T220415
CREATED:20240712T140651Z
LAST-MODIFIED:20250717T124012Z
UID:7352-1758218400-1758229200@www.crous-poitiers.fr
SUMMARY:Poitiers • Welcome Job\, le Forum emploi étudiant
DESCRIPTION:[vc_row][vc_column][vc_column_text css= » »]Cette rencontre bisannuelle – Summer Job en mars et Welcome Job en septembre-  fait se rencontrer les professionnels et les étudiants pour les emplois à pourvoir dans des domaines divers :  restauration\, hôtellerie\, vente\, animation\, services à domicile etc.[/vc_column_text][/vc_column][/vc_row]
URL:https://www.crous-poitiers.fr/evenement/welcome-job-forum-emploi-etudiant/
LOCATION:Resto U’ Rabelais\, 5 rue de la devinière\, Poitiers\, 86000\, France
CATEGORIES:Finances,jobs étudiants
ATTACH;FMTTYPE=image/jpeg:https://www.crous-poitiers.fr/wp-content/uploads/sites/25/2025/07/PDF-SANS-TRAIT-DE-COUPE-AFFICHE-WELCOME-JOB-2025_compressed-scaled.jpg
ORGANIZER;CN="service vie %C3%A9tudiante":MAILTO:culture@crous-poitiers.fr
END:VEVENT
END:VCALENDAR